BEGIN:VCALENDAR
VERSION:2.0
PRODID:-//wp-events-plugin.com//6.5.2//EN
BEGIN:VEVENT
UID:28@events.mentoringcenter.org
DTSTART;VALUE=DATE:20250731
DTEND;VALUE=DATE:20250801
DTSTAMP:20250804T082345Z
URL:https://events.mentoringcenter.org/event/what-i-wish-i-had-known-earli
 er-in-my-career/
SUMMARY:What I Wish I Had Known Earlier in My Career
DESCRIPTION:Cross-Cultural Leader | Career Empowerment Mentor | Experience 
 & Empathy Advocate | Emerging Talent Champion
ATTACH;FMTTYPE=image/jpeg:https://events.mentoringcenter.org/wp-content/up
 loads/2025/06/Viktoria-Jordanovska22-1198x958.webp
END:VEVENT
END:VCALENDAR