BEGIN:VCALENDAR
VERSION:2.0
PRODID:-//wp-events-plugin.com//6.5.2//EN
BEGIN:VEVENT
UID:26@events.mentoringcenter.org
DTSTART;VALUE=DATE:20250703
DTEND;VALUE=DATE:20250704
DTSTAMP:20250708T082730Z
URL:https://events.mentoringcenter.org/event/the-empowered-mentor-stress-l
 ess-lead-more/
SUMMARY:The Empowered Mentor: Stress Less\, Lead More
DESCRIPTION:Leadership Coach | Emotional Resilience Expert | Executive Well
 ness Advocate | Empowered Mentorship Facilitator
ATTACH;FMTTYPE=image/jpeg:https://events.mentoringcenter.org/wp-content/up
 loads/2025/06/Steven-Buescher-354x282.jpg
END:VEVENT
END:VCALENDAR