BEGIN:VCALENDAR
VERSION:2.0
PRODID:-//wp-events-plugin.com//6.5.2//EN
BEGIN:VEVENT
UID:5@events.mentoringcenter.org
DTSTART:20241007T100000Z
DTEND:20241007T100000Z
DTSTAMP:20250122T071514Z
URL:https://events.mentoringcenter.org/event/qa-with-ingmar-bartels-the-po
 wer-of-mentoring-in-a-vuca-world/
SUMMARY:Q&A with Ingmar Bartels: The Power of Mentoring in a VUCA World
DESCRIPTION:Creative Strategy Consultant and Founder of “Let me think abo
 ut it.” Striving for disruption in content\, social media\, advertising\
 , and marketing. Experienced Team Lead & Cannes Lions Winner.
ATTACH;FMTTYPE=image/jpeg:https://events.mentoringcenter.org/wp-content/up
 loads/2024/09/Ingmar-2-1198x958.jpg
END:VEVENT
END:VCALENDAR