BEGIN:VCALENDAR
VERSION:2.0
PRODID:-//wp-events-plugin.com//6.5.2//EN
BEGIN:VEVENT
UID:18@events.mentoringcenter.org
DTSTART:20250213T000000Z
DTEND:20250213T000000Z
DTSTAMP:20250218T145109Z
URL:https://events.mentoringcenter.org/event/mentoring-roles-operations-ch
 allenges-and-solutions/
SUMMARY:Mentoring: Roles\, Operations\, Challenges\, and Solutions
DESCRIPTION:Business Consultant | Award-Winning Entrepreneur | Startup Grow
 th Specialist | Mentor for Emerging Talent\n
ATTACH;FMTTYPE=image/jpeg:https://events.mentoringcenter.org/wp-content/up
 loads/2025/01/Omran-Al-Habbal-1198x958.webp
END:VEVENT
END:VCALENDAR