BEGIN:VCALENDAR
VERSION:2.0
PRODID:-//wp-events-plugin.com//6.5.2//EN
BEGIN:VEVENT
UID:29@events.mentoringcenter.org
DTSTART;VALUE=DATE:20250814
DTEND;VALUE=DATE:20250815
DTSTAMP:20250818T103831Z
URL:https://events.mentoringcenter.org/event/mentor-me-but-dont-tell-me-wh
 at-to-do/
SUMMARY:Mentor Me… But Don’t Tell Me What to Do
DESCRIPTION:Executive & Personal Coach | Leadership Communication Specialis
 t | Authenticity & Purpose Advocate | Growth-Oriented Mentor\n\n
ATTACH;FMTTYPE=image/jpeg:https://events.mentoringcenter.org/wp-content/up
 loads/2025/06/profile-pic-354x282.jpg
END:VEVENT
END:VCALENDAR