BEGIN:VCALENDAR
VERSION:2.0
PRODID:-//wp-events-plugin.com//6.5.2//EN
BEGIN:VEVENT
UID:9@events.mentoringcenter.org
DTSTART:20241216T100000Z
DTEND:20241216T100000Z
DTSTAMP:20250120T052537Z
URL:https://events.mentoringcenter.org/event/empowering-leadership-through
 -mentoring-strategies/
SUMMARY:Empowering Leadership through Mentoring Strategies
DESCRIPTION:Entreprenuer | Business Coach | Group CEO | Strategic Advisor |
  COO | Country Manager
ATTACH;FMTTYPE=image/jpeg:https://events.mentoringcenter.org/wp-content/up
 loads/2024/09/Alexandros-1-1198x958.jpg
END:VEVENT
END:VCALENDAR