BEGIN:VCALENDAR
VERSION:2.0
PRODID:-//wp-events-plugin.com//6.5.2//EN
BEGIN:VEVENT
UID:17@events.mentoringcenter.org
DTSTART;VALUE=DATE:20250327
DTEND;VALUE=DATE:20250328
DTSTAMP:20250409T125558Z
URL:https://events.mentoringcenter.org/event/emotional-intelligence-the-ke
 y-to-effective-mentorship/
SUMMARY:Emotional Intelligence: The Key to Effective Mentorship
DESCRIPTION:Master Trainer | HR and L&D Professional | Talent Development S
 pecialist | International Speaker\n
ATTACH;FMTTYPE=image/jpeg:https://events.mentoringcenter.org/wp-content/up
 loads/2025/01/01-Mohamed-Mossilhy-1-1198x958.webp
END:VEVENT
END:VCALENDAR