BEGIN:VCALENDAR
VERSION:2.0
PRODID:-//wp-events-plugin.com//6.5.2//EN
BEGIN:VEVENT
UID:13@events.mentoringcenter.org
DTSTART:20241125T100000Z
DTEND:20241125T100000Z
DTSTAMP:20241126T105829Z
URL:https://events.mentoringcenter.org/event/asset-investment-and-building
 -your-own-business/
SUMMARY:Asset Investment and Building Your Own Business
DESCRIPTION:Yin Fei is a professional trader\, investor\, entrepreneur\, an
 d mentor with over a decade of experience in the restaurant industry\, whe
 re he successfully built a small chain of restaurants. Today\, he manages 
 one restaurant while expanding his 7-figure property portfolio in the UK. 
 Yin trades financial markets professionally and is a passionate magician\,
  performing weekly for audiences. Alongside his business ventures\, Yin is
  also a magician entertainer\, performing magic for audiences weekly\, a p
 assionate hobby he has nurtured since his teenage years. As a mentor and b
 usiness coach\, Yin is dedicated to helping others achieve their life goal
 s by sharing his business\, investments\, and personal growth expertise.\n
 \nJoin Yin Fei for an insightful presentation on asset investing\, focusin
 g on property investments in the UK and key principles of financial market
  investments. This presentation will also explore entrepreneurship\, speci
 fically how to turn your passion into a successful business venture. Wheth
 er you’re an aspiring entrepreneur or a seasoned investor\, this session
  will provide practical advice to help you grow your business and make sou
 nd investment decisions.\n\n  Don’t miss this opportunity to learn fro
 m a seasoned entrepreneur and investor. Register now to secure your spot a
 nd gain valuable insights into asset investing and building a thriving bus
 iness.
ATTACH;FMTTYPE=image/jpeg:https://events.mentoringcenter.org/wp-content/up
 loads/2024/09/Yin-Fei-1-1198x958.webp
END:VEVENT
END:VCALENDAR